BEGIN:VCALENDAR
VERSION:2.0
PRODID:-//QM Pankstraße - ECPv6.15.20//NONSGML v1.0//EN
CALSCALE:GREGORIAN
METHOD:PUBLISH
X-ORIGINAL-URL:https://www.pankstrasse-quartier.de
X-WR-CALDESC:Veranstaltungen für QM Pankstraße
REFRESH-INTERVAL;VALUE=DURATION:PT1H
X-Robots-Tag:noindex
X-PUBLISHED-TTL:PT1H
BEGIN:VTIMEZONE
TZID:Europe/Berlin
BEGIN:DAYLIGHT
TZOFFSETFROM:+0100
TZOFFSETTO:+0200
TZNAME:CEST
DTSTART:20240331T010000
END:DAYLIGHT
BEGIN:STANDARD
TZOFFSETFROM:+0200
TZOFFSETTO:+0100
TZNAME:CET
DTSTART:20241027T010000
END:STANDARD
BEGIN:DAYLIGHT
TZOFFSETFROM:+0100
TZOFFSETTO:+0200
TZNAME:CEST
DTSTART:20250330T010000
END:DAYLIGHT
BEGIN:STANDARD
TZOFFSETFROM:+0200
TZOFFSETTO:+0100
TZNAME:CET
DTSTART:20251026T010000
END:STANDARD
BEGIN:DAYLIGHT
TZOFFSETFROM:+0100
TZOFFSETTO:+0200
TZNAME:CEST
DTSTART:20260329T010000
END:DAYLIGHT
BEGIN:STANDARD
TZOFFSETFROM:+0200
TZOFFSETTO:+0100
TZNAME:CET
DTSTART:20261025T010000
END:STANDARD
END:VTIMEZONE
BEGIN:VEVENT
DTSTART;TZID=Europe/Berlin:20251010T140000
DTEND;TZID=Europe/Berlin:20251010T180000
DTSTAMP:20260426T033829
CREATED:20251008T094317Z
LAST-MODIFIED:20251008T094318Z
UID:10000309-1760104800-1760119200@www.pankstrasse-quartier.de
SUMMARY:Temporärer Spiel- und Nachbarschaftstraße
DESCRIPTION:Wir laden euch herzlich zur letzten Spielstraße des Jahres in der Nazaratherkirchstraße ein – am Freitag\, den 10. Oktober\, von 14 bis 18 Uhr! \nAn diesem Nachmittag wird die Straße wieder zu einem Treffpunkt für Spiel\, Spaß und Begegnung. \nEs erwarten euch tolle Aktionen von Einrichtungen aus der Nachbarschaft! \nKommt vorbei\, bringt eure Familie\, Freund*innen und Nachbar*innen mit und genießt einen schönen Tag mit uns in der autofreien Straße!
URL:https://www.pankstrasse-quartier.de/event/temporaerer-spiel-und-nachbarschaftstrasse-2/
LOCATION:Spiel- und Nachbarschaftsstraße\, Nazarethkirchstraße\, Berlin\, 13347
CATEGORIES:Veranstaltungen unserer Projekte
ATTACH;FMTTYPE=image/jpeg:https://www.pankstrasse-quartier.de/wp-content/uploads/sites/7/2025/07/TSP-Spielstrasse-Oktober.jpg
END:VEVENT
BEGIN:VEVENT
DTSTART;TZID=Europe/Berlin:20250808T160000
DTEND;TZID=Europe/Berlin:20250808T210000
DTSTAMP:20260426T033829
CREATED:20250717T092031Z
LAST-MODIFIED:20251008T093904Z
UID:10000308-1754668800-1754686800@www.pankstrasse-quartier.de
SUMMARY:Temporärer Spiel- und Nachbarschaftstraße
DESCRIPTION:
URL:https://www.pankstrasse-quartier.de/event/temporaerer-spiel-und-nachbarschaftstrasse/
LOCATION:Spiel- und Nachbarschaftsstraße\, Nazarethkirchstraße\, Berlin\, 13347
CATEGORIES:Veranstaltungen unserer Projekte
ATTACH;FMTTYPE=image/jpeg:https://www.pankstrasse-quartier.de/wp-content/uploads/sites/7/2025/07/TSP-Spielstrasse-Oktober.jpg
END:VEVENT
END:VCALENDAR